BEGIN:VCALENDAR
VERSION:2.0
PRODID:-//DIM 1Health //NONSGML Events //FR 
CALSCALE:GREGORIAN 
BEGIN:VEVENT
UID:2196-event-dim1health
DTSTART:20260421T132908
DTEND:20260421T
DTSTAMP:20260421T112908Z
LOCATION:
DESCRIPTION:Marseille, 01-02 october 2019 The different seminar sessions will include talks on : Enquête sur les pratiques « One Health » en matière de lutte contre les maladies tropicales négligées : résultats et perspectives Success stories des approches One Health dans la lutte contre les MTN &nbsp;Trypanosomoses&nbsp; Cysticercose Discussions avec la salle And round table discussions on: « Comment travailler ensemble dans une approche One Health pour mieux lutter contre les MTN ? » « Comment travailler ensemble dans une approche One Health pour mieux lutter contre les MTN ? » &nbsp;&nbsp;&nbsp;&nbsp; Download the pre-programme-colloque-MTN-One-Health-2019Télécharger Register here
SUMMARY:Francophone Network on Neglected Tropical Diseases Seminar« Approches One Health dans la lutte contre les MTN »
ORGANIZER:DIM 1Health
URL:https://www.dim1health.com/en/news/colloque-du-reseau-francophone-sur-les-maladies-tropicales-negligees-approches-one-health-dans-la-lutte-contre-les-mtn-2/
TRANSP:OPAQUE
END:VEVENT
END:VCALENDAR