BEGIN:VCALENDAR
VERSION:2.0
PRODID:-//DIM 1Health //NONSGML Events //FR 
CALSCALE:GREGORIAN 
BEGIN:VEVENT
UID:670-event-dim1health
DTSTART:20170904T100000
DTEND:20170908T200000
DTSTAMP:20260421T101720Z
LOCATION:Kuala Lumpur\, Malaisie
DESCRIPTION:Two new OIE Collaborating Centres in Europe and Asia to improve food safety and reduce the burden of food-borne zoonotic parasites. In WAAVP 2017 Combating zoonoses: strength in East-West partnerships (Kuala Lumpur, Malaysia). du 4 au 8 septembre 2017, Kuala Lumpur, Malaisie http://www.waavp2017kl.org/
SUMMARY:WAAVP Conference, World Association for the Advancement of Veterinary Parasitology
ORGANIZER:DIM 1Health
URL:https://www.dim1health.com/en/events/waavp-du-4-au-8-septembre-2017-kuala-lumpur-malaisie/
TRANSP:OPAQUE
END:VEVENT
END:VCALENDAR