BEGIN:VCALENDAR
VERSION:2.0
PRODID:-//DIM 1Health 2.0 //NONSGML Events //FR 
CALSCALE:GREGORIAN 
BEGIN:VEVENT
UID:1695-event-dim1health
DTSTART:20190523T090000
DTEND:20190523T190000
DTSTAMP:20260421T103504Z
LOCATION:Centre de Recherche des Cordeliers\, Rue de l'École de Médecine\, Paris\, France
DESCRIPTION:La microbiologie au cœur du concept "One Health" Colloque des laboratoires de l'Alliance Sorbonne Université
L’édition 2019 portera sur le concept « One health », en mettant la lumière sur la Microbiologie au sein des approches intégrées sur la santé humaine, animale et de l’environnement. Ce colloque sera l’occasion de présenter les travaux de recherche des équipes de l'Alliance Sorbonne Université, en relation avec les différentes disciplines impliquées dans le concept One Health (liste non exhaustive). La journée sera animée autour de trois conférences invitées, de présentations de collègues microbiologistes (appel à soumissions prochainement), d’une session de posters, ainsi qu’une table ronde afin de discuter ensemble des interactions potentielles entre collègues et comment mieux répondre aux appels d'offre "One health" à Paris. Conférenciers invités: Pascal Boireau (ANSES) « Le Concept OneHealth » Frédérick Gay (Site Pitié Salpêtrière) « Nouvelle approche pédagogique : paludisme, leishmaniose et arbovirus » Emma Rochelle-Newall (Site UPMC) « Environnement et Burkholderia pseudomallei au Laos » Télécharger le programme du symposium ici Inscription gratuite et obligatoire :&nbsp;https://mte2019-1health.sciencesconf.org/&nbsp;
SUMMARY:Colloque « La microbiologie dans tous ses états » – 3ème édition le 23 Mai
ORGANIZER:DIM 1Health 2.0
URL:https://www.dim1health.com/evenements/colloque-la-microbiologie-dans-tous-ses-etats-3eme-edition-le-23-mai/
TRANSP:OPAQUE
END:VEVENT
END:VCALENDAR