BEGIN:VCALENDAR
VERSION:2.0
PRODID:-//DIM 1Health 2.0 //NONSGML Events //FR 
CALSCALE:GREGORIAN 
BEGIN:VEVENT
UID:3603-event-dim1health
DTSTART:20210507T093000
DTEND:20210507T170000
DTSTAMP:20260421T090241Z
LOCATION:
DESCRIPTION:Le 7 mai prochain aura lieu le séminaire du DIM1HEALTH afin de faire un premier bilan sur les activités de recherche financées LIEN D'ACCES AU SEMINAIRE: https://us02web.zoom.us/j/88444568762?pwd=T2dFa0k5T1lURCtnb2JMY2RmZ3RXdz09 Programme du séminaire du DIM1HEALTH, infectiologie clinique et environnementale&nbsp;; bilan et perspectives. 7 mai 2021 de 9h30 à 17h30. Visio conférence Animation par Dominique LOPEZ, journaliste. 9h30 Ouverture du symposium&nbsp;: Présidence Région île de France 9h40 Présentation des tutelles du DIM1HEALTH&nbsp;: Roger GENET, Directeur Général de l’ANSES, Président du CA du DIM1HEALTH, ( Directeurs généraux INSERM, EnvA) 10h00 Pascal BOIREAU, Bref retour sur les 4 précédents appels d’offre. 10h15 France MENTRE et Nathan PFEIFFER-SMADJA.Présentation du projet de recherche Discovery (thérapie pour la COVID19): résultats et perspectives. 11h-12h Perceptions sociales des maladies infectieuses 1. Romain SIMENEL et Nicolas LAINÈ&nbsp;: Du savoir sur les animaux au savoir des animaux : Coproduire des connaissances pour une meilleure prévention des crises sanitaires. 2. Nicolas FORTANE : Gouverner l’Antibiorésistance en Elevage : acteurs, savoirs et régulations d’un problème public international (1945-2019). 3. Arnaud MORVAN&nbsp;et Frédéric KECK : Savoirs autochtones et mesures de biosécurité. Perceptions et usages des chauve-souris en contexte de risque zoonotique en Australie et en Europe. 12h-12h40 Prévenir et traiter les maladies infectieuses (partie 1) 1. Felix REY: Identification of Novel Target Sites for Therapeutic and Preventive Strategies against orthobunyaviral infection. 2. Guillermo BLANCO-RODRIGUEZ: The innate immune response against MVA infection. 14h-14h30: Prévenir et traiter les maladies infectieuses (partie 2) 3. Frédéric FREZARD: Chaire d’excellence (DIM1HEALTH). Nouveaux medicaments anti-leishmaniens. 14h30-15h30&nbsp;: Surveillance et mécanismes d’évolution des agents pathogènes 1. Victor KREIS: Les ARNs non codants dans la pathogenèse des infections liées à un entéropathogène émergent humain, Clostridium difficile. 2. Soizic PRADO&nbsp;: Les métabolites secondaires fongiques, médiateurs au carrefour des santés. 3. Maud MARSOT et Amalia RATAUD&nbsp;:&nbsp;Eco-épidémiologie du système Habitats-Oiseaux-Tiques-Borrelia et impact sur le risque lié à la maladie de Lyme en France. 15h45-17h30 Table ronde : organisation par Coralie MARTIN et Philippe LOISEAU ; Cécile BERNARD, santé de l’environnement et biodiversité, quelques acteurs soutenus par le DIM1HEALTH ((comment potentialiser les financement du DIM1HEALTH), Sara MOUTAILLER DIM1HEALTH et LABEX IBEID et Françoise CHARTIER-BOTTEREL (chaire d’excellence et partenariat), Jean Daniel LELIÈVRE pour le post DIM (accepté). 17h30 Propos de synthèse
SUMMARY:Séminaire « DIM1HEALTH, bilan et perspectives »
ORGANIZER:DIM 1Health 2.0
URL:https://www.dim1health.com/evenements/seminaire-dim1health-bilan-et-perspectives/
TRANSP:OPAQUE
END:VEVENT
END:VCALENDAR