BEGIN:VCALENDAR
VERSION:2.0
PRODID:-//DIM 1Health 2.0 //NONSGML Events //FR 
CALSCALE:GREGORIAN 
BEGIN:VEVENT
UID:3818-event-dim1health
DTSTART:20220316T140000
DTEND:20220316T151500
DTSTAMP:20260422T152240Z
LOCATION:
DESCRIPTION:Cliquer ici.
SUMMARY:Lancement – ​​One Health : démarche d’action contre les maladies tropicales négligées 2021-2030
ORGANIZER:DIM 1Health 2.0
URL:https://www.dim1health.com/evenements/lancement-%e2%80%8b%e2%80%8bone-health-demarche-daction-contre-les-maladies-tropicales-negligees-2021-2030/
TRANSP:OPAQUE
END:VEVENT
END:VCALENDAR